BEGIN:VCALENDAR
VERSION:2.0
PRODID:-//Community Charter School of Paterson - ECPv6.15.20//NONSGML v1.0//EN
CALSCALE:GREGORIAN
METHOD:PUBLISH
X-ORIGINAL-URL:https://ccsp.org
X-WR-CALDESC:Events for Community Charter School of Paterson
REFRESH-INTERVAL;VALUE=DURATION:PT1H
X-Robots-Tag:noindex
X-PUBLISHED-TTL:PT1H
BEGIN:VTIMEZONE
TZID:America/Chicago
BEGIN:DAYLIGHT
TZOFFSETFROM:-0600
TZOFFSETTO:-0500
TZNAME:CDT
DTSTART:20230312T080000
END:DAYLIGHT
BEGIN:STANDARD
TZOFFSETFROM:-0500
TZOFFSETTO:-0600
TZNAME:CST
DTSTART:20231105T070000
END:STANDARD
BEGIN:DAYLIGHT
TZOFFSETFROM:-0600
TZOFFSETTO:-0500
TZNAME:CDT
DTSTART:20240310T080000
END:DAYLIGHT
BEGIN:STANDARD
TZOFFSETFROM:-0500
TZOFFSETTO:-0600
TZNAME:CST
DTSTART:20241103T070000
END:STANDARD
BEGIN:DAYLIGHT
TZOFFSETFROM:-0600
TZOFFSETTO:-0500
TZNAME:CDT
DTSTART:20250309T080000
END:DAYLIGHT
BEGIN:STANDARD
TZOFFSETFROM:-0500
TZOFFSETTO:-0600
TZNAME:CST
DTSTART:20251102T070000
END:STANDARD
END:VTIMEZONE
BEGIN:VEVENT
DTSTART;VALUE=DATE:20240308
DTEND;VALUE=DATE:20240309
DTSTAMP:20260423T205245
CREATED:20240226T212104Z
LAST-MODIFIED:20240226T212446Z
UID:758-1709856000-1709942399@ccsp.org
SUMMARY:End of Quarter Celebration - K/1st
DESCRIPTION:Kinder and 1st grade end of quarter celebration!
URL:https://ccsp.org/event/end-of-quarter-celebration/
LOCATION:75 Spruce Elementary School\, 75 Spruce St.\, Paterson\, NJ\, 07501\, United States
CATEGORIES:75 Spruce
END:VEVENT
BEGIN:VEVENT
DTSTART;VALUE=DATE:20240315
DTEND;VALUE=DATE:20240316
DTSTAMP:20260423T205245
CREATED:20240226T212535Z
LAST-MODIFIED:20240226T212535Z
UID:760-1710460800-1710547199@ccsp.org
SUMMARY:End of Quarter Celebration - 2/3rd
DESCRIPTION:2nd and 3rd grade end of quarter celebration!
URL:https://ccsp.org/event/end-of-quarter-celebration-2-3rd/
LOCATION:75 Spruce Elementary School\, 75 Spruce St.\, Paterson\, NJ\, 07501\, United States
CATEGORIES:75 Spruce
END:VEVENT
BEGIN:VEVENT
DTSTART;VALUE=DATE:20240322
DTEND;VALUE=DATE:20240323
DTSTAMP:20260423T205245
CREATED:20240226T212741Z
LAST-MODIFIED:20240226T212741Z
UID:761-1711065600-1711151999@ccsp.org
SUMMARY:End of Quarter Celebration - 4th
DESCRIPTION:4th grade end of quarter celebration!
URL:https://ccsp.org/event/end-of-quarter-celebration-4th/
LOCATION:75 Spruce Elementary School\, 75 Spruce St.\, Paterson\, NJ\, 07501\, United States
CATEGORIES:75 Spruce
END:VEVENT
BEGIN:VEVENT
DTSTART;TZID=America/Chicago:20240323T100000
DTEND;TZID=America/Chicago:20240323T150000
DTSTAMP:20260423T205245
CREATED:20240226T213206Z
LAST-MODIFIED:20240226T214308Z
UID:762-1711188000-1711206000@ccsp.org
SUMMARY:Kindergarten Registration Event
DESCRIPTION:
URL:https://ccsp.org/event/kindergarten-registration-event/
LOCATION:NJ
CATEGORIES:75 Spruce
END:VEVENT
BEGIN:VEVENT
DTSTART;VALUE=DATE:20240329
DTEND;VALUE=DATE:20240330
DTSTAMP:20260423T205245
CREATED:20240226T213631Z
LAST-MODIFIED:20240226T213631Z
UID:765-1711670400-1711756799@ccsp.org
SUMMARY:Good Friday
DESCRIPTION:School closed.
URL:https://ccsp.org/event/good-friday/
LOCATION:NJ
CATEGORIES:75 Spruce,8 Morris
END:VEVENT
END:VCALENDAR