BEGIN:VCALENDAR
VERSION:2.0
PRODID:-//Community Charter School of Paterson - ECPv6.15.17.1//NONSGML v1.0//EN
CALSCALE:GREGORIAN
METHOD:PUBLISH
X-WR-CALNAME:Community Charter School of Paterson
X-ORIGINAL-URL:https://ccsp.org
X-WR-CALDESC:Events for Community Charter School of Paterson
REFRESH-INTERVAL;VALUE=DURATION:PT1H
X-Robots-Tag:noindex
X-PUBLISHED-TTL:PT1H
BEGIN:VTIMEZONE
TZID:America/Chicago
BEGIN:DAYLIGHT
TZOFFSETFROM:-0600
TZOFFSETTO:-0500
TZNAME:CDT
DTSTART:20250309T080000
END:DAYLIGHT
BEGIN:STANDARD
TZOFFSETFROM:-0500
TZOFFSETTO:-0600
TZNAME:CST
DTSTART:20251102T070000
END:STANDARD
BEGIN:DAYLIGHT
TZOFFSETFROM:-0600
TZOFFSETTO:-0500
TZNAME:CDT
DTSTART:20260308T080000
END:DAYLIGHT
BEGIN:STANDARD
TZOFFSETFROM:-0500
TZOFFSETTO:-0600
TZNAME:CST
DTSTART:20261101T070000
END:STANDARD
BEGIN:DAYLIGHT
TZOFFSETFROM:-0600
TZOFFSETTO:-0500
TZNAME:CDT
DTSTART:20270314T080000
END:DAYLIGHT
BEGIN:STANDARD
TZOFFSETFROM:-0500
TZOFFSETTO:-0600
TZNAME:CST
DTSTART:20271107T070000
END:STANDARD
END:VTIMEZONE
BEGIN:VEVENT
DTSTART;TZID=America/Chicago:20260228T120000
DTEND;TZID=America/Chicago:20260228T150000
DTSTAMP:20260421T152034
CREATED:20260206T175452Z
LAST-MODIFIED:20260207T165913Z
UID:1958-1772280000-1772290800@ccsp.org
SUMMARY:Winter Wonderland (Signature Event)
DESCRIPTION:❄️ Winter Wonderland🎉 FREE EVENT – ALL FAMILIES WELCOME 🎉Join us for a magical afternoon at our Winter Wonderland celebration! Families are invited to enjoy seasonal fun\, activities\, and a festive atmosphere perfect for making memories together. \n📅 February 28📍 6 Morris Street\, Paterson\, NJ 07501⏰ 12:00 PM – 3:00 PM \n📝 Registration opens 2–3 weeks before the event.Register via: www.ticketsource.com/ccspnj
URL:https://ccsp.org/event/winter-wonderland/
LOCATION:6 Morris Street\, 6 Morris Street\, Paterson\, NJ\, 07051\, United States
CATEGORIES:75 Spruce,8 Morris,Community Schools
END:VEVENT
END:VCALENDAR