BEGIN:VCALENDAR
VERSION:2.0
PRODID:-//Community Charter School of Paterson - ECPv6.15.20//NONSGML v1.0//EN
CALSCALE:GREGORIAN
METHOD:PUBLISH
X-WR-CALNAME:Community Charter School of Paterson
X-ORIGINAL-URL:https://ccsp.org/es/
X-WR-CALDESC:Eventos para Community Charter School of Paterson
REFRESH-INTERVAL;VALUE=DURATION:PT1H
X-Robots-Tag:noindex
X-PUBLISHED-TTL:PT1H
BEGIN:VTIMEZONE
TZID:America/New_York
BEGIN:DAYLIGHT
TZOFFSETFROM:-0500
TZOFFSETTO:-0400
TZNAME:EDT
DTSTART:20230312T070000
END:DAYLIGHT
BEGIN:STANDARD
TZOFFSETFROM:-0400
TZOFFSETTO:-0500
TZNAME:EST
DTSTART:20231105T060000
END:STANDARD
BEGIN:DAYLIGHT
TZOFFSETFROM:-0500
TZOFFSETTO:-0400
TZNAME:EDT
DTSTART:20240310T070000
END:DAYLIGHT
BEGIN:STANDARD
TZOFFSETFROM:-0400
TZOFFSETTO:-0500
TZNAME:EST
DTSTART:20241103T060000
END:STANDARD
BEGIN:DAYLIGHT
TZOFFSETFROM:-0500
TZOFFSETTO:-0400
TZNAME:EDT
DTSTART:20250309T070000
END:DAYLIGHT
BEGIN:STANDARD
TZOFFSETFROM:-0400
TZOFFSETTO:-0500
TZNAME:EST
DTSTART:20251102T060000
END:STANDARD
END:VTIMEZONE
BEGIN:VEVENT
DTSTART;VALUE=DATE:20240229
DTEND;VALUE=DATE:20240301
DTSTAMP:20260423T134440
CREATED:20240126T214927Z
LAST-MODIFIED:20240126T214927Z
UID:934-1709164800-1709251199@ccsp.org
SUMMARY:Reunión de la Junta Directiva de febrero
DESCRIPTION:Se anima a los padres y al profesorado a unirse a nosotros para nuestra reunión mensual de la junta directiva\, que será virtual. Las notas estarán disponibles en línea después de la reunión. \nEnlace Zoom: https://us02web.zoom.us/j/81372783946?pwd=MVhnaGZTVGEwNEU2aHlhVnVLVWdLZz09
URL:https://ccsp.org/es/event/reunion-de-la-junta-directiva-de-febrero/
CATEGORIES:Home Office
END:VEVENT
END:VCALENDAR