BEGIN:VCALENDAR
VERSION:2.0
PRODID:-//Community Charter School of Paterson - ECPv6.15.17.1//NONSGML v1.0//EN
CALSCALE:GREGORIAN
METHOD:PUBLISH
X-WR-CALNAME:Community Charter School of Paterson
X-ORIGINAL-URL:https://ccsp.org/es/
X-WR-CALDESC:Eventos para Community Charter School of Paterson
REFRESH-INTERVAL;VALUE=DURATION:PT1H
X-Robots-Tag:noindex
X-PUBLISHED-TTL:PT1H
BEGIN:VTIMEZONE
TZID:America/Chicago
BEGIN:DAYLIGHT
TZOFFSETFROM:-0600
TZOFFSETTO:-0500
TZNAME:CDT
DTSTART:20230312T080000
END:DAYLIGHT
BEGIN:STANDARD
TZOFFSETFROM:-0500
TZOFFSETTO:-0600
TZNAME:CST
DTSTART:20231105T070000
END:STANDARD
BEGIN:DAYLIGHT
TZOFFSETFROM:-0600
TZOFFSETTO:-0500
TZNAME:CDT
DTSTART:20240310T080000
END:DAYLIGHT
BEGIN:STANDARD
TZOFFSETFROM:-0500
TZOFFSETTO:-0600
TZNAME:CST
DTSTART:20241103T070000
END:STANDARD
BEGIN:DAYLIGHT
TZOFFSETFROM:-0600
TZOFFSETTO:-0500
TZNAME:CDT
DTSTART:20250309T080000
END:DAYLIGHT
BEGIN:STANDARD
TZOFFSETFROM:-0500
TZOFFSETTO:-0600
TZNAME:CST
DTSTART:20251102T070000
END:STANDARD
END:VTIMEZONE
BEGIN:VEVENT
DTSTART;VALUE=DATE:20240328
DTEND;VALUE=DATE:20240329
DTSTAMP:20260419T093654
CREATED:20240226T215222Z
LAST-MODIFIED:20240226T215222Z
UID:921-1711584000-1711670399@ccsp.org
SUMMARY:Junta Directiva de marzo
DESCRIPTION:Se anima a los padres y al profesorado a unirse a nosotros para nuestra reunión mensual de la junta directiva\, que será virtual. Las notas estarán disponibles en línea después de la reunión. \nEnlace de Zoom: https://us02web.zoom.us/j/81372783946?pwd=MVhnaGZTVGEwNEU2aHlhVnVLVWdLZz09
URL:https://ccsp.org/es/event/junta-directiva-de-marzo/
CATEGORIES:Home Office
END:VEVENT
END:VCALENDAR